BEGIN:VCALENDAR
VERSION:2.0
PRODID:-//ExpressionEngine Easy iCalendar plugin//NONSGML v2.0.1//EN
X-WR-TIMEZONE:America/Los_Angeles
X-WR-CALNAME:Upcoming Auctions
BEGIN:VEVENT
UID:116915
DTSTAMP:20240323T070000
DTSTART:20240323T070000
DTEND:20240323T080000
SUMMARY:Luxury Jewelry\, Designer Jewelry\, and Timepieces
LOCATION:{location}
DESCRIPTION:Bidding Now! - Live Bidding Starts Sat\, Mar 23\, 2024 at 07:0
 0:00 am PT
URL:https://www.gwsauctions.com/auctions/detail/bw116915
SEQUENCE:1
END:VEVENT
END:VCALENDAR